BEGIN:VCALENDAR
VERSION:2.0
PRODID:icalendar-ruby
CALSCALE:GREGORIAN
METHOD:PUBLISH
BEGIN:VEVENT
DTSTAMP:20260422T184730Z
UID:234-1434228@lakecountrychurch.com
DTSTART:20261016T203000Z
DTEND:20261016T213000Z
CLASS:PUBLIC
CREATED:20260422T085846
DESCRIPTION:Join us every Friday at 1:30p for conversation\, prayer and a t
 ime to connect.\nBring your own drink.  
LAST-MODIFIED:20260422T085846
LOCATION:
SUMMARY:Men's Fellowship Group
URL;VALUE=URI:https://www.lakecountrychurch.com/events/mens-fellowship-grou
 p/2026-10-16
ATTACH;FILENAME=Mens Group.jpg;FMTTYPE=image/jpeg:https://dq5pwpg1q8ru0.clo
 udfront.net/2021/10/28/09/57/14/d5ea8e02-7ecf-42d1-add0-98dc8ee379ce/Mens%
 20Group.jpg
END:VEVENT
END:VCALENDAR
