BEGIN:VCALENDAR
VERSION:2.0
PRODID:icalendar-ruby
CALSCALE:GREGORIAN
METHOD:PUBLISH
BEGIN:VEVENT
DTSTAMP:20260422T173125Z
UID:268-1241279@lakecountrychurch.com
DTSTART:20260529T170000Z
DTEND:20260529T200000Z
CLASS:PUBLIC
CREATED:20260304T172019
DESCRIPTION:During this 10-session women's study\, prayer and praise time\,
  participants will search the Scriptures for answers to questions regardin
 g Israel and the church.  A potluck lunch will follow each session!\nClic
 k HERE to register
LAST-MODIFIED:20260304T172019
LOCATION:
SUMMARY:Israel and the Church
URL;VALUE=URI:https://www.lakecountrychurch.com/events/israel-and-the-churc
 h/2026-05-29
ATTACH;FILENAME=Israel & Church - News.png;FMTTYPE=image/png:https://dq5pwp
 g1q8ru0.cloudfront.net/2026/03/04/22/34/55/2bd9139a-98ac-4605-8a74-82f8dfa
 f601c/Israel%20&%20Church%20-%20News.png
END:VEVENT
END:VCALENDAR
